BEGIN:VCALENDAR
VERSION:2.0
PRODID:-//87.76.23.135//NONSGML kigkonsult.se iCalcreator 2.16.12//
BEGIN:VTIMEZONE
TZID:Europe/London
TZOFFSETFROM:+0000
TZOFFSETTO:+0100
END:VTIMEZONE
BEGIN:VEVENT
UID:20260420T111321UTC-3399UaTZLca@dansk-norsk.no
DTSTAMP:20260420T111321Z
DTSTART:20260320T190000
DTEND:20260320T200000
SUMMARY:Johannespasjonen av Bent Sørensen
END:VEVENT
END:VCALENDAR
