BEGIN:VCALENDAR
VERSION:2.0
PRODID:-//87.76.23.135//NONSGML kigkonsult.se iCalcreator 2.16.12//
BEGIN:VTIMEZONE
TZID:Europe/London
TZOFFSETFROM:+0000
TZOFFSETTO:+0100
END:VTIMEZONE
BEGIN:VEVENT
UID:20260420T112438UTC-6243lsSZmna@dansk-norsk.no
DTSTAMP:20260420T112438Z
DTSTART:20260308T180000
DTEND:20260308T200000
SUMMARY:En hyllest til Tove Ditlevsen - 50 år etter
END:VEVENT
END:VCALENDAR
