BEGIN:VCALENDAR
VERSION:2.0
PRODID:-//87.76.23.135//NONSGML kigkonsult.se iCalcreator 2.16.12//
BEGIN:VTIMEZONE
TZID:Europe/London
TZOFFSETFROM:+0000
TZOFFSETTO:+0100
END:VTIMEZONE
BEGIN:VEVENT
UID:20260420T111815UTC-2328ojVWM5a@dansk-norsk.no
DTSTAMP:20260420T111815Z
DTSTART:20251120T093200
DTEND:20251120T093200
SUMMARY:Anja Philip er ny generalsekretær
END:VEVENT
END:VCALENDAR
