BEGIN:VCALENDAR
VERSION:2.0
PRODID:-//87.76.23.135//NONSGML kigkonsult.se iCalcreator 2.16.12//
BEGIN:VTIMEZONE
TZID:Europe/London
TZOFFSETFROM:+0000
TZOFFSETTO:+0100
END:VTIMEZONE
BEGIN:VEVENT
UID:20260420T111245UTC-1492wCO1vKa@dansk-norsk.no
DTSTAMP:20260420T111245Z
DTSTART:20251202T180000
DTEND:20251202T200000
SUMMARY:Førjulskonsert på Lysebu
END:VEVENT
END:VCALENDAR
