BEGIN:VCALENDAR
VERSION:2.0
PRODID:-//87.76.23.135//NONSGML kigkonsult.se iCalcreator 2.16.12//
BEGIN:VTIMEZONE
TZID:Europe/London
TZOFFSETFROM:+0000
TZOFFSETTO:+0100
END:VTIMEZONE
BEGIN:VEVENT
UID:20260420T104346UTC-38818VVT9Ia@dansk-norsk.no
DTSTAMP:20260420T104346Z
DTSTART;VALUE=DATE:20250904
DTEND;VALUE=DATE:20250927
SUMMARY:Fondet for dansk-norsk samarbeid søker generalsekretær
END:VEVENT
END:VCALENDAR
