BEGIN:VCALENDAR
VERSION:2.0
PRODID:-//87.76.23.135//NONSGML kigkonsult.se iCalcreator 2.16.12//
BEGIN:VTIMEZONE
TZID:Europe/London
TZOFFSETFROM:+0000
TZOFFSETTO:+0100
END:VTIMEZONE
BEGIN:VEVENT
UID:20260422T112502UTC-0180wcu5Bua@dansk-norsk.no
DTSTAMP:20260422T112502Z
DTSTART:20250916T193000
DTEND:20250916T203000
SUMMARY:Samisk og grønlandsk kultur midt i geo- og klimapolitikkens smelted
 igel
END:VEVENT
END:VCALENDAR
