BEGIN:VCALENDAR
VERSION:2.0
PRODID:-//87.76.23.135//NONSGML kigkonsult.se iCalcreator 2.16.12//
BEGIN:VTIMEZONE
TZID:Europe/London
TZOFFSETFROM:+0000
TZOFFSETTO:+0100
END:VTIMEZONE
BEGIN:VEVENT
UID:20260420T110746UTC-4176F8KobNa@dansk-norsk.no
DTSTAMP:20260420T110746Z
DTSTART:20250911T170000
DTEND:20250911T180000
SUMMARY:Kritikerroste Brynjulf Jung Tjønn om makt og avmakt i minoritets-li
 tteraturen
END:VEVENT
END:VCALENDAR
