BEGIN:VCALENDAR
VERSION:2.0
PRODID:-//87.76.23.135//NONSGML kigkonsult.se iCalcreator 2.16.12//
BEGIN:VTIMEZONE
TZID:Europe/London
TZOFFSETFROM:+0000
TZOFFSETTO:+0100
END:VTIMEZONE
BEGIN:VEVENT
UID:20260420T111626UTC-7469ukD0UNa@dansk-norsk.no
DTSTAMP:20260420T111626Z
DTSTART:20250626T182800
DTEND:20250903T122800
SUMMARY:Videointerview med komponisten Bent Sørensen om sin kunst og tilkny
 tning til Norge
END:VEVENT
END:VCALENDAR
