BEGIN:VCALENDAR
VERSION:2.0
PRODID:-//87.76.23.135//NONSGML kigkonsult.se iCalcreator 2.16.12//
BEGIN:VTIMEZONE
TZID:Europe/London
TZOFFSETFROM:+0000
TZOFFSETTO:+0100
END:VTIMEZONE
BEGIN:VEVENT
UID:20260420T105714UTC-22117M594Da@dansk-norsk.no
DTSTAMP:20260420T105714Z
DTSTART;VALUE=DATE:20250523
DTEND;VALUE=DATE:20250524
SUMMARY:Festlig prisoverrækkelse på Operaen til komponisten Bent Sørensen
END:VEVENT
END:VCALENDAR
