BEGIN:VCALENDAR
VERSION:2.0
PRODID:-//87.76.23.135//NONSGML kigkonsult.se iCalcreator 2.16.12//
BEGIN:VTIMEZONE
TZID:Europe/London
TZOFFSETFROM:+0000
TZOFFSETTO:+0100
END:VTIMEZONE
BEGIN:VEVENT
UID:20260420T111827UTC-5669DuVJJVa@dansk-norsk.no
DTSTAMP:20260420T111827Z
DTSTART:20250603T190000
DTEND:20250603T213000
SUMMARY:Møt Suzanne Brøgger på Lysebu i samtale med Alf van der Hagen om li
 v\, litteratur og ny roman
END:VEVENT
END:VCALENDAR
