BEGIN:VCALENDAR
VERSION:2.0
PRODID:-//87.76.23.135//NONSGML kigkonsult.se iCalcreator 2.16.12//
BEGIN:VTIMEZONE
TZID:Europe/London
TZOFFSETFROM:+0000
TZOFFSETTO:+0100
END:VTIMEZONE
BEGIN:VEVENT
UID:20260420T110340UTC-1115vp32KJa@dansk-norsk.no
DTSTAMP:20260420T110340Z
DTSTART;VALUE=DATE:20251107
DTEND;VALUE=DATE:20251112
SUMMARY:Nordiske sprogpiloter – kursus for grundskolelærere i Norden 2025
END:VEVENT
END:VCALENDAR
