BEGIN:VCALENDAR
VERSION:2.0
PRODID:-//87.76.23.135//NONSGML kigkonsult.se iCalcreator 2.16.12//
BEGIN:VTIMEZONE
TZID:Europe/London
TZOFFSETFROM:+0000
TZOFFSETTO:+0100
END:VTIMEZONE
BEGIN:VEVENT
UID:20260420T111110UTC-6555zlbnuRa@dansk-norsk.no
DTSTAMP:20260420T111110Z
DTSTART:20250506T021400
DTEND:20250523T231400
SUMMARY:Komponisten Bent Sørensen modtager Hammerich-Prisen 2025
END:VEVENT
END:VCALENDAR
