BEGIN:VCALENDAR
VERSION:2.0
PRODID:-//87.76.23.135//NONSGML kigkonsult.se iCalcreator 2.16.12//
BEGIN:VTIMEZONE
TZID:Europe/London
TZOFFSETFROM:+0000
TZOFFSETTO:+0100
END:VTIMEZONE
BEGIN:VEVENT
UID:20260420T105226UTC-8396jGDfdDa@dansk-norsk.no
DTSTAMP:20260420T105226Z
DTSTART:20250517T160000
DTEND:20250517T170000
SUMMARY:Kom med i Tivoli- optog – vi fejrer 17. maj!
END:VEVENT
END:VCALENDAR
