BEGIN:VCALENDAR
VERSION:2.0
PRODID:-//87.76.23.135//NONSGML kigkonsult.se iCalcreator 2.16.12//
BEGIN:VTIMEZONE
TZID:Europe/London
TZOFFSETFROM:+0000
TZOFFSETTO:+0100
END:VTIMEZONE
BEGIN:VEVENT
UID:20260420T145523UTC-9911kesri2a@dansk-norsk.no
DTSTAMP:20260420T145523Z
DTSTART:20250517T073400
DTEND:20250517T073400
SUMMARY:Sæt kryds i kalenderen\, når vi fejrer 17. maj i Tivoli 
END:VEVENT
END:VCALENDAR
