BEGIN:VCALENDAR
VERSION:2.0
PRODID:-//87.76.23.135//NONSGML kigkonsult.se iCalcreator 2.16.12//
BEGIN:VTIMEZONE
TZID:Europe/London
TZOFFSETFROM:+0000
TZOFFSETTO:+0100
END:VTIMEZONE
BEGIN:VEVENT
UID:20260420T114333UTC-2537pf2Mm6a@dansk-norsk.no
DTSTAMP:20260420T114333Z
DTSTART:20250426T120000
DTEND:20250426T153000
SUMMARY:The Mitocondrial Eve – performance av Lilibeth Cuenca Rasmussen på 
 Vigeland Museet
END:VEVENT
END:VCALENDAR
