BEGIN:VCALENDAR
VERSION:2.0
PRODID:-//87.76.23.135//NONSGML kigkonsult.se iCalcreator 2.16.12//
BEGIN:VTIMEZONE
TZID:Europe/London
TZOFFSETFROM:+0000
TZOFFSETTO:+0100
END:VTIMEZONE
BEGIN:VEVENT
UID:20260420T105122UTC-45765C0lNCa@dansk-norsk.no
DTSTAMP:20260420T105122Z
DTSTART:20250515T170000
DTEND:20250515T180000
SUMMARY:Mød den norske forfatter Geir Gulliksen i BRØG i KBH
END:VEVENT
END:VCALENDAR
