BEGIN:VCALENDAR
VERSION:2.0
PRODID:-//87.76.23.135//NONSGML kigkonsult.se iCalcreator 2.16.12//
BEGIN:VTIMEZONE
TZID:Europe/London
TZOFFSETFROM:+0000
TZOFFSETTO:+0100
END:VTIMEZONE
BEGIN:VEVENT
UID:20260420T111827UTC-4601dwFTILa@dansk-norsk.no
DTSTAMP:20260420T111827Z
DTSTART:20250424T114800
DTEND:20250425T114800
SUMMARY:Seminar om dansk-norsk skulptur rundt 1900 på Lysebu
END:VEVENT
END:VCALENDAR
