BEGIN:VCALENDAR
VERSION:2.0
PRODID:-//87.76.23.135//NONSGML kigkonsult.se iCalcreator 2.16.12//
BEGIN:VTIMEZONE
TZID:Europe/London
TZOFFSETFROM:+0000
TZOFFSETTO:+0100
END:VTIMEZONE
BEGIN:VEVENT
UID:20260423T161105UTC-9634vwczfVa@dansk-norsk.no
DTSTAMP:20260423T161105Z
DTSTART:20240912T170000
DTEND:20240912T200000
SUMMARY:7-9-13: performance tableauer af 21 nordiske kunstnere i Q
END:VEVENT
END:VCALENDAR
