BEGIN:VCALENDAR
VERSION:2.0
PRODID:-//87.76.23.135//NONSGML kigkonsult.se iCalcreator 2.16.12//
BEGIN:VTIMEZONE
TZID:Europe/London
TZOFFSETFROM:+0000
TZOFFSETTO:+0100
END:VTIMEZONE
BEGIN:VEVENT
UID:20260420T124110UTC-1290SJd2zea@dansk-norsk.no
DTSTAMP:20260420T124110Z
DTSTART:20240530T140000
DTEND:20250105T170000
SUMMARY:Kai Nielsens tætte forbindelse til Norge vises på Glyptoteket og Fa
 aborg Museum
END:VEVENT
END:VCALENDAR
