BEGIN:VCALENDAR
VERSION:2.0
PRODID:-//87.76.23.135//NONSGML kigkonsult.se iCalcreator 2.16.12//
BEGIN:VTIMEZONE
TZID:Europe/London
TZOFFSETFROM:+0000
TZOFFSETTO:+0100
END:VTIMEZONE
BEGIN:VEVENT
UID:20260420T150327UTC-5792unijiva@dansk-norsk.no
DTSTAMP:20260420T150327Z
DTSTART:20191201T160000
DTEND:20191201T180000
SUMMARY:Prisuddeling
END:VEVENT
END:VCALENDAR
