BEGIN:VCALENDAR
VERSION:2.0
PRODID:-//87.76.23.135//NONSGML kigkonsult.se iCalcreator 2.16.12//
BEGIN:VTIMEZONE
TZID:Europe/London
TZOFFSETFROM:+0000
TZOFFSETTO:+0100
END:VTIMEZONE
BEGIN:VEVENT
UID:20260419T133124UTC-40304ePRUfa@dansk-norsk.no
DTSTAMP:20260419T133124Z
DTSTART:20240619T114500
DTEND:20240819T114000
SUMMARY:Udviklingen af Schæffergården i faste rammer
END:VEVENT
END:VCALENDAR
