BEGIN:VCALENDAR
VERSION:2.0
PRODID:-//87.76.23.135//NONSGML kigkonsult.se iCalcreator 2.16.12//
BEGIN:VTIMEZONE
TZID:Europe/London
TZOFFSETFROM:+0000
TZOFFSETTO:+0100
END:VTIMEZONE
BEGIN:VEVENT
UID:20260422T172354UTC-9329AVug54a@dansk-norsk.no
DTSTAMP:20260422T172354Z
DTSTART;VALUE=DATE:20240911
DTEND;VALUE=DATE:20240916
SUMMARY:Sprogpilotkursus for nordiske gymnasielærere på Hanaholmen
END:VEVENT
END:VCALENDAR
