BEGIN:VCALENDAR
VERSION:2.0
PRODID:-//87.76.23.135//NONSGML kigkonsult.se iCalcreator 2.16.12//
BEGIN:VTIMEZONE
TZID:Europe/London
TZOFFSETFROM:+0000
TZOFFSETTO:+0100
END:VTIMEZONE
BEGIN:VEVENT
UID:20260422T190105UTC-25349x47TSa@dansk-norsk.no
DTSTAMP:20260422T190105Z
DTSTART:20190509T200000
DTEND:20190509T235900
SUMMARY:Minikonsert: Marte Wulff
END:VEVENT
BEGIN:VEVENT
UID:20260422T190105UTC-2541UHXureb@dansk-norsk.no
DTSTAMP:20260422T190105Z
DTSTART;VALUE=DATE:20190509
DTEND;VALUE=DATE:20190510
SUMMARY:Minikonsert: Marte Wulff
END:VEVENT
END:VCALENDAR
