BEGIN:VCALENDAR
VERSION:2.0
PRODID:-//87.76.23.135//NONSGML kigkonsult.se iCalcreator 2.16.12//
BEGIN:VTIMEZONE
TZID:Europe/London
TZOFFSETFROM:+0000
TZOFFSETTO:+0100
END:VTIMEZONE
BEGIN:VEVENT
UID:20260422T172517UTC-0711t6ckbva@dansk-norsk.no
DTSTAMP:20260422T172517Z
DTSTART:20190927T200000
DTEND:20190927T210000
SUMMARY:Det Flydende Teater på Schæffergården
END:VEVENT
END:VCALENDAR
