BEGIN:VCALENDAR
VERSION:2.0
PRODID:-//87.76.23.135//NONSGML kigkonsult.se iCalcreator 2.16.12//
BEGIN:VTIMEZONE
TZID:Europe/London
TZOFFSETFROM:+0000
TZOFFSETTO:+0100
END:VTIMEZONE
BEGIN:VEVENT
UID:20260422T171828UTC-8332TIRtFVa@dansk-norsk.no
DTSTAMP:20260422T171828Z
DTSTART:20190509T090000
DTEND:20190509T170000
SUMMARY:Klimalitteraturens status i Danmark og Norge 2019
END:VEVENT
END:VCALENDAR
