BEGIN:VCALENDAR
VERSION:2.0
PRODID:-//87.76.23.135//NONSGML kigkonsult.se iCalcreator 2.16.12//
BEGIN:VTIMEZONE
TZID:Europe/London
TZOFFSETFROM:+0000
TZOFFSETTO:+0100
END:VTIMEZONE
BEGIN:VEVENT
UID:20260422T210739UTC-7969AGhHLFa@dansk-norsk.no
DTSTAMP:20260422T210739Z
DTSTART:20190413T190000
DTEND:20190413T200000
SUMMARY:Konsert med Pedersborg kirkes ungdomskor
END:VEVENT
END:VCALENDAR
