BEGIN:VCALENDAR
VERSION:2.0
PRODID:-//87.76.23.135//NONSGML kigkonsult.se iCalcreator 2.16.12//
BEGIN:VTIMEZONE
TZID:Europe/London
TZOFFSETFROM:+0000
TZOFFSETTO:+0100
END:VTIMEZONE
BEGIN:VEVENT
UID:20260419T133400UTC-50505AVjUGa@dansk-norsk.no
DTSTAMP:20260419T133400Z
DTSTART:20150113T193000
DTEND:20150113T213000
SUMMARY:Astrid Lindgren og Jens Andersen på Schæffergården!
END:VEVENT
END:VCALENDAR
